BEGIN:VCALENDAR
VERSION:2.0
PRODID:-//Northaw and Cuffley Parish Council//Meeting Calendar//EN
CALSCALE:GREGORIAN
METHOD:PUBLISH
BEGIN:VEVENT
UID:71134-20230221@northawcuffley-pc.gov.uk
DTSTAMP:20260424T095013Z
DTSTART;VALUE=DATE:20230221
DTEND;VALUE=DATE:20230222
SUMMARY:21-02-23 HR Committee Meeting
DESCRIPTION:Human Resources Committee Meeting\nView details: https://northawcuffley-pc.gov.uk/meetings/21-02-23-hr-committee-meeting/
URL:https://northawcuffley-pc.gov.uk/meetings/21-02-23-hr-committee-meeting/
END:VEVENT
END:VCALENDAR
