BEGIN:VCALENDAR
VERSION:2.0
PRODID:-//Northaw and Cuffley Parish Council//Meeting Calendar//EN
CALSCALE:GREGORIAN
METHOD:PUBLISH
BEGIN:VEVENT
UID:71468-20250313@northawcuffley-pc.gov.uk
DTSTAMP:20260421T174735Z
DTSTART;VALUE=DATE:20250313
DTEND;VALUE=DATE:20250314
SUMMARY:13-03-25 Planning Committee Working Party
DESCRIPTION:Planning Committee Working Party Meeting\nView details: https://northawcuffley-pc.gov.uk/meetings/13-03-25-planning-committee-working-party/
URL:https://northawcuffley-pc.gov.uk/meetings/13-03-25-planning-committee-working-party/
END:VEVENT
END:VCALENDAR
