BEGIN:VCALENDAR
VERSION:2.0
PRODID:-//Northaw and Cuffley Parish Council//Meeting Calendar//EN
CALSCALE:GREGORIAN
METHOD:PUBLISH
BEGIN:VEVENT
UID:71622-20251112@northawcuffley-pc.gov.uk
DTSTAMP:20260420T085612Z
DTSTART;VALUE=DATE:20251112
DTEND;VALUE=DATE:20251113
SUMMARY:12-11-25 Full Council meeting
DESCRIPTION:Full Council Meeting\nView details: https://northawcuffley-pc.gov.uk/meetings/12-11-25-full-council-meeting/
URL:https://northawcuffley-pc.gov.uk/meetings/12-11-25-full-council-meeting/
END:VEVENT
END:VCALENDAR
